BEGIN:VCALENDAR
VERSION:2.0
PRODID:-//Light Work - ECPv6.15.12.2//NONSGML v1.0//EN
CALSCALE:GREGORIAN
METHOD:PUBLISH
X-ORIGINAL-URL:https://www.lightwork.org
X-WR-CALDESC:Events for Light Work
REFRESH-INTERVAL;VALUE=DURATION:PT1H
X-Robots-Tag:noindex
X-PUBLISHED-TTL:PT1H
BEGIN:VTIMEZONE
TZID:America/New_York
BEGIN:DAYLIGHT
TZOFFSETFROM:-0500
TZOFFSETTO:-0400
TZNAME:EDT
DTSTART:20230312T070000
END:DAYLIGHT
BEGIN:STANDARD
TZOFFSETFROM:-0400
TZOFFSETTO:-0500
TZNAME:EST
DTSTART:20231105T060000
END:STANDARD
BEGIN:DAYLIGHT
TZOFFSETFROM:-0500
TZOFFSETTO:-0400
TZNAME:EDT
DTSTART:20240310T070000
END:DAYLIGHT
BEGIN:STANDARD
TZOFFSETFROM:-0400
TZOFFSETTO:-0500
TZNAME:EST
DTSTART:20241103T060000
END:STANDARD
BEGIN:DAYLIGHT
TZOFFSETFROM:-0500
TZOFFSETTO:-0400
TZNAME:EDT
DTSTART:20250309T070000
END:DAYLIGHT
BEGIN:STANDARD
TZOFFSETFROM:-0400
TZOFFSETTO:-0500
TZNAME:EST
DTSTART:20251102T060000
END:STANDARD
END:VTIMEZONE
BEGIN:VEVENT
DTSTART;TZID=America/New_York:20240709T180000
DTEND;TZID=America/New_York:20240723T200000
DTSTAMP:20260423T131327
CREATED:20240116T213634Z
LAST-MODIFIED:20240604T181512Z
UID:58535-1720548000-1721764800@www.lightwork.org
SUMMARY:Photobook Course
DESCRIPTION:Tuesdays: 7/9\, 7/16\, 7/23 from 6-8 PM \n\n\nWhere: Light Work\, 316 Waverly Avenue\, Syracuse\, NY 13210 located in the Robert B. Menschel Media Center. \nCost: $120 (materials included) \nOpen to members and non-members! \nCLASS FULL!\nConstruct a book with Cali and Becky! This three-week course will cover a full bookmaking workflow and is open to photographers of all skill levels. Learn image-sequencing principles\, InDesign basics\, bookbinding methods\, and tips for pre-press file prep. You will leave with a completed photobook bound on Light Work’s Perfect Binder. All materials will be provided.
URL:https://www.lightwork.org/event/photobook-course/
LOCATION:Light Work\, 316 Waverly Ave\, Syracuse\, NY\, 13210\, United States
CATEGORIES:Educational
ATTACH;FMTTYPE=image/jpeg:https://www.lightwork.org/uploads/LightWork_Logo_2000px.jpg
END:VEVENT
END:VCALENDAR