BEGIN:VCALENDAR
VERSION:2.0
PRODID:-//Light Work - ECPv6.15.12.2//NONSGML v1.0//EN
CALSCALE:GREGORIAN
METHOD:PUBLISH
X-ORIGINAL-URL:https://www.lightwork.org
X-WR-CALDESC:Events for Light Work
REFRESH-INTERVAL;VALUE=DURATION:PT1H
X-Robots-Tag:noindex
X-PUBLISHED-TTL:PT1H
BEGIN:VTIMEZONE
TZID:America/New_York
BEGIN:DAYLIGHT
TZOFFSETFROM:-0500
TZOFFSETTO:-0400
TZNAME:EDT
DTSTART:20240310T070000
END:DAYLIGHT
BEGIN:STANDARD
TZOFFSETFROM:-0400
TZOFFSETTO:-0500
TZNAME:EST
DTSTART:20241103T060000
END:STANDARD
BEGIN:DAYLIGHT
TZOFFSETFROM:-0500
TZOFFSETTO:-0400
TZNAME:EDT
DTSTART:20250309T070000
END:DAYLIGHT
BEGIN:STANDARD
TZOFFSETFROM:-0400
TZOFFSETTO:-0500
TZNAME:EST
DTSTART:20251102T060000
END:STANDARD
BEGIN:DAYLIGHT
TZOFFSETFROM:-0500
TZOFFSETTO:-0400
TZNAME:EDT
DTSTART:20260308T070000
END:DAYLIGHT
BEGIN:STANDARD
TZOFFSETFROM:-0400
TZOFFSETTO:-0500
TZNAME:EST
DTSTART:20261101T060000
END:STANDARD
END:VTIMEZONE
BEGIN:VEVENT
DTSTART;TZID=America/New_York:20250227T190000
DTEND;TZID=America/New_York:20250524T230000
DTSTAMP:20260424T082121
CREATED:20250225T155744Z
LAST-MODIFIED:20250225T155744Z
UID:66312-1740682800-1748127600@www.lightwork.org
SUMMARY:Lines of Flight: Joiri Minaya | Miryam Charles
DESCRIPTION:Light Work’s Urban Video Project is pleased to present the exhibition Lines of Flight featuring short films by multimedia artist Joiri Minaya and filmmaker Miryam Charles exploring the tangled trajectories of displacement\, immigration\, invasion\, exploration and escape. \nThe exhibition will run from February 27 – May 24\, 2025 as an architectural projection venue on the Everson Museum facade. \nAdditional work by Joiri Minaya will be on view at the Syracuse University Museum in the show Joiri Minaya: Unseeing the Tropics at the Museum from January 21 to May 10\, 2025. \nIn conjunction with the exhibition\, Minaya and Charles will be present for a screening and Q&A on Thursday\, March 20 at 6:30pm in Watson Theater across from Light Work’s  galleries. \n  \nFebruary 27 – May 24\, 2025\nThursday – Saturday\, dusk – 11pm\nEverson Museum Plaza\n401 Harrison Street
URL:https://www.lightwork.org/event/lines-of-flight-joiri-minaya-miryam-charles/
LOCATION:Everson Museum Auditorium\, 401 Harrison St.\, Syracuse\, NY\, 13202
CATEGORIES:Screenings
ATTACH;FMTTYPE=image/jpeg:https://www.lightwork.org/uploads/MiryamChales_FlyFlySadness_1920x1080_INSTALL-1251.jpg
ORGANIZER;CN="Light Work UVP":MAILTO:info@lightwork.org
END:VEVENT
END:VCALENDAR