BEGIN:VCALENDAR
VERSION:2.0
PRODID:-//Light Work - ECPv6.15.12.2//NONSGML v1.0//EN
CALSCALE:GREGORIAN
METHOD:PUBLISH
X-WR-CALNAME:Light Work
X-ORIGINAL-URL:https://www.lightwork.org
X-WR-CALDESC:Events for Light Work
REFRESH-INTERVAL;VALUE=DURATION:PT1H
X-Robots-Tag:noindex
X-PUBLISHED-TTL:PT1H
BEGIN:VTIMEZONE
TZID:America/New_York
BEGIN:DAYLIGHT
TZOFFSETFROM:-0500
TZOFFSETTO:-0400
TZNAME:EDT
DTSTART:20250309T070000
END:DAYLIGHT
BEGIN:STANDARD
TZOFFSETFROM:-0400
TZOFFSETTO:-0500
TZNAME:EST
DTSTART:20251102T060000
END:STANDARD
BEGIN:DAYLIGHT
TZOFFSETFROM:-0500
TZOFFSETTO:-0400
TZNAME:EDT
DTSTART:20260308T070000
END:DAYLIGHT
BEGIN:STANDARD
TZOFFSETFROM:-0400
TZOFFSETTO:-0500
TZNAME:EST
DTSTART:20261101T060000
END:STANDARD
BEGIN:DAYLIGHT
TZOFFSETFROM:-0500
TZOFFSETTO:-0400
TZNAME:EDT
DTSTART:20270314T070000
END:DAYLIGHT
BEGIN:STANDARD
TZOFFSETFROM:-0400
TZOFFSETTO:-0500
TZNAME:EST
DTSTART:20271107T060000
END:STANDARD
END:VTIMEZONE
BEGIN:VEVENT
DTSTART;TZID=America/New_York:20260507T190000
DTEND;TZID=America/New_York:20260507T210000
DTSTAMP:20260425T072017
CREATED:20260421T163508Z
LAST-MODIFIED:20260421T163508Z
UID:68475-1778180400-1778187600@www.lightwork.org
SUMMARY:Book Signing and Artist Talk with Brian Van Lau
DESCRIPTION:Join Light Work and Penumbra Foundation to celebrate the release of We’re Just Here for the Bad Guys\, the debut monograph by 2025 Workspace resident Brian Van Lau\, published by Light Work. The evening will feature a conversation between the artist and Light Work’s Director\, Dan Boardman\, followed by a book signing. \nWe’re Just Here for the Bad Guys chronicles Brian Van Lau’s relationship with his estranged father. Lau’s father was absent during his childhood due to his incarceration. After his release\, he rebuilt his life in Vietnam\, remarried\, and gradually disappeared from Lau’s life. Nearly a decade later\, Lau traveled to Vietnam following his father’s sudden illness\, and learned of his terminal cancer. During their final week together\, they collaborated on a photographic project that documented his father’s unsuccessful path toward recovery. After his father’s passing\, Lau returned to his hometown in Hawai‘i seeking closure\, uncovering hidden correspondence that revealed previously unknown parts of his father’s life. Entrusted with dispersing his father’s ashes across O‘ahu\, the artist began working with his grandparents to reconstruct this fragmented family history through photography. \nVan Lau’s project has been featured in Aperture\, The Washington Post\, W Magazine\, and It’s Nice That.
URL:https://www.lightwork.org/event/book-signing-and-artist-talk-with-brian-van-lau/
LOCATION:Penumbra Foundation\, 36 E. 30th St\, New York\, NY\, 10016\, United States
CATEGORIES:Educational
ATTACH;FMTTYPE=image/png:https://cdn.lightwork.org/book-signing-1.png
END:VEVENT
END:VCALENDAR